BEGIN:VCALENDAR
VERSION:2.0
PRODID:-//Gartenfreunde Fasanenhof e.V. - ECPv6.15.20//NONSGML v1.0//EN
CALSCALE:GREGORIAN
METHOD:PUBLISH
X-WR-CALNAME:Gartenfreunde Fasanenhof e.V.
X-ORIGINAL-URL:https://gartenfreunde-fasanenhof.de
X-WR-CALDESC:Veranstaltungen für Gartenfreunde Fasanenhof e.V.
REFRESH-INTERVAL;VALUE=DURATION:PT1H
X-Robots-Tag:noindex
X-PUBLISHED-TTL:PT1H
BEGIN:VTIMEZONE
TZID:UTC
BEGIN:STANDARD
TZOFFSETFROM:+0000
TZOFFSETTO:+0000
TZNAME:UTC
DTSTART:20250101T000000
END:STANDARD
END:VTIMEZONE
BEGIN:VEVENT
DTSTART;TZID=UTC:20260424T180000
DTEND;TZID=UTC:20260424T200000
DTSTAMP:20260424T104149
CREATED:20260312T073419Z
LAST-MODIFIED:20260312T092835Z
UID:370-1777053600-1777060800@gartenfreunde-fasanenhof.de
SUMMARY:Jahreshauptversammlung
DESCRIPTION:
URL:https://gartenfreunde-fasanenhof.de/events/jahreshauptversammlung/
LOCATION:Vereinsheim KÖ5
END:VEVENT
END:VCALENDAR